BEGIN:VCALENDAR
VERSION:2.0
PRODID:icalendar-ruby
CALSCALE:GREGORIAN
METHOD:PUBLISH
BEGIN:VEVENT
DTSTAMP:20260422T081341Z
UID:134-180188@westwardcoc.com
DTSTART:20260426T200000Z
DTEND:20260426T220000Z
CLASS:PUBLIC
CREATED:20260409T181340
DESCRIPTION:Mark your calendars for the 2026 Houston Citywide Lectureship a
 t South Union Church of Christ!\nOur own Bro. Gene Rowe will be speaking o
 n Sunday\, April 26 at 3:00pm and we will not have evening worship on that
  day to support the lectureship. Also\, on Wednesday\, April 29 we will no
 t have Sweet Hour of Prayer &amp\; Song so that we can participate in this
  event at 7:00pm. 
LAST-MODIFIED:20260409T181340
LOCATION:7427 Ardmore St.\, Houston TX 77054
SUMMARY:Houston Citywide Lectureship
URL;VALUE=URI:https://westwardcoc.com/events/houston-citywide-lectureship/2
 026-04-26
ATTACH;FILENAME=citywide-lectureship.jpg;FMTTYPE=image/jpeg:https://dq5pwpg
 1q8ru0.cloudfront.net/2026/04/09/23/13/03/d0409fce-db25-4e98-b473-333e667f
 3826/citywide-lectureship.jpg
END:VEVENT
END:VCALENDAR
