BEGIN:VCALENDAR
VERSION:2.0
PRODID:icalendar-ruby
CALSCALE:GREGORIAN
METHOD:PUBLISH
BEGIN:VEVENT
DTSTAMP:20260422T020552Z
UID:28-186992@westwardcoc.com
DTSTART:20260913T143000Z
DTEND:20260913T160000Z
CLASS:PUBLIC
CREATED:20260421T201240
DESCRIPTION:Join us each week as we worship the Lord in spirit and in truth
  at 9:30 am!
LAST-MODIFIED:20260421T201240
LOCATION:302 N. Westward
SUMMARY:Morning Worship
URL;VALUE=URI:https://westwardcoc.com/events/morning-worship/2026-09-13
ATTACH;FILENAME=Calendar-Morning-Worship.png;FMTTYPE=image/png:https://dq5p
 wpg1q8ru0.cloudfront.net/2024/12/26/19/23/29/24179295-8383-4437-b186-6516c
 22b2754/Calendar-Morning-Worship.png
END:VEVENT
END:VCALENDAR
