BEGIN:VCALENDAR
VERSION:2.0
PRODID:icalendar-ruby
CALSCALE:GREGORIAN
METHOD:PUBLISH
BEGIN:VEVENT
DTSTAMP:20260424T141248Z
UID:135-184130@westwardcoc.com
DTSTART:20260502T180000Z
DTEND:20260502T200000Z
CLASS:PUBLIC
CREATED:20260416T193552
DESCRIPTION:All seniors are invited to come out for afternoon of fellowship
  and BINGO! \nSponsors are asked to donate a prize for our games. It will
  be greatly appreciated! Questions? See Beverly Hampton or any committee m
 ember.\n 
LAST-MODIFIED:20260416T193552
LOCATION:502 N. Westward
SUMMARY:Seniors Activity: Bingo!
URL;VALUE=URI:https://westwardcoc.com/events/seniors-activity-bingo/2026-05
 -02
ATTACH;FILENAME=BINGO.png;FMTTYPE=image/png:https://dq5pwpg1q8ru0.cloudfron
 t.net/2026/04/17/00/35/52/be02e206-453e-4f41-a438-7c79588f9863/BINGO.png
END:VEVENT
END:VCALENDAR
